BEGIN:VCALENDAR
VERSION:2.0
PRODID:spatie/icalendar-generator
NAME:68. Vorstandssitzung AktivRegion ETS
X-WR-CALNAME:68. Vorstandssitzung AktivRegion ETS
BEGIN:VTIMEZONE
TZID:Europe/Berlin
BEGIN:DAYLIGHT
DTSTART:20250330T010000
TZOFFSETFROM:+0100
TZOFFSETTO:+0200
END:DAYLIGHT
BEGIN:STANDARD
DTSTART:20251026T030000
TZOFFSETFROM:+0200
TZOFFSETTO:+0100
END:STANDARD
BEGIN:DAYLIGHT
DTSTART:20260329T010000
TZOFFSETFROM:+0100
TZOFFSETTO:+0200
END:DAYLIGHT
END:VTIMEZONE
BEGIN:VTIMEZONE
TZID:UTC
BEGIN:STANDARD
DTSTART:20250725T135710
TZOFFSETFROM:+0000
TZOFFSETTO:+0000
END:STANDARD
END:VTIMEZONE
BEGIN:VEVENT
UID:69e7823636b6b
DTSTAMP:20260421T135710Z
SUMMARY:68. Vorstandssitzung AktivRegion ETS
DESCRIPTION:Einladung zur 68. Vorstandssitzung\n\nLiebe Vorstandsmitglieder
  der LAG AktivRegion Eider-Treene-Sorge e.V.\, liebe Projektträger und In
 teressierte\,wir möchten Euch ganz herzlich zur 68.Vorstandssitzung der L
 AG AktivRegion Eider-Treene-Sorgee. V. einladen. Wir treffen uns am Dienst
 ag\, den 09.12.2025 um 18.30 Uhr im Großen Sitzungssaal des Amtes Arensha
 rde\, Hauptstr. 41 in 24887 Silberstedt.Folgende Tagesordnung ist für die
  Vorstandssitzung vorgesehen:TOP 1  Begrüßung &amp\; Feststellung der Be
 schlussfähigkeitTOP 2  Genehmigung des Protokolls der 67. Vorstandssitzun
 g vom 23.09.2025TOP 3  Vorstellung der eingereichten Grundbudgetprojekte\n
 \n1.         Neufassung Amtsentwicklungskonzept für das Amt Hohner Harde\
 n\n2.         Hörnerplatz Lohe- Föhrden\n\n3.         Kooperationsprojek
 t: Förderung von wohnungssuchenden Menschen im Kreis Dithmarschen\n\nTOP 
 4  Diskussion &amp\; Beschlussfassung zu den eingereichten Grundbudgetproj
 ekten\n\nTOP 5  Neues aus der GmbH: Klimagerechte Regionalentwicklung\n\nT
 OP 6  Verschiedenes\n\nBitte gebt uns in jedem Fall bis zum 28.11.2025 ein
 e Rückmeldung\, ob ihr an der Vorstandssitzung teilnehmt\, damit wir im V
 orfeld die Beschlussfähigkeit des Gremiums prüfen können.Liebe Vorstand
 smitglieder\, bitte beachtet\, dass es für die Vorstandssitzung keine per
 sönliche Stellvertreter-Regelung gibt und bei Abwesenheit die gewählten 
 Stellvertreter für den Vorstand zu informieren sind. Bei Unklarheiten mel
 det euch jederzeit gerne bei uns.Wir freuen uns auf das Wiedersehen in Sil
 berstedt!Herzliche Grüße aus dem Stapelholmhuus\,Levke BrauerRegionalman
 agerin der LAG AktivRegion Eider-Treene-Sorge e.V.\n\n\n\n\n\n
LOCATION:Amt Arensharde\, Großer Sitzungssaal \, Hauptstr. 41\, 24887 Silb
 erstedt
URL:https://event.eider-treene-sorge.de/event/9RDxLkw6
DTSTART;TZID=Europe/Berlin:20251209T183000
DTEND;TZID=Europe/Berlin:20251209T200000
END:VEVENT
END:VCALENDAR