BEGIN:VCALENDAR
VERSION:2.0
PRODID:spatie/icalendar-generator
NAME:69. Vorstandssitzung LAG AktivRegion Eider-Treene-Sorge
X-WR-CALNAME:69. Vorstandssitzung LAG AktivRegion Eider-Treene-Sorge
BEGIN:VTIMEZONE
TZID:Europe/Berlin
BEGIN:STANDARD
DTSTART:20251026T030000
TZOFFSETFROM:+0200
TZOFFSETTO:+0100
END:STANDARD
BEGIN:DAYLIGHT
DTSTART:20260329T010000
TZOFFSETFROM:+0100
TZOFFSETTO:+0200
END:DAYLIGHT
END:VTIMEZONE
BEGIN:VTIMEZONE
TZID:UTC
BEGIN:STANDARD
DTSTART:20250729T151831
TZOFFSETFROM:+0000
TZOFFSETTO:+0000
END:STANDARD
END:VTIMEZONE
BEGIN:VEVENT
UID:69ecdb47edd37
DTSTAMP:20260425T151831Z
SUMMARY:69. Vorstandssitzung LAG AktivRegion Eider-Treene-Sorge
DESCRIPTION:Liebe Vorstandsmitglieder der LAG AktivRegion Eider-Treene-Sorg
 e e.V.\,liebe Projektträger und Interessierte\,wir möchten Euch ganz her
 zlich zur 69.Vorstandssitzung der LAG AktivRegion Eider-Treene-Sorgee. V. 
 einladen. Wir treffen uns am Dienstag\, den 24.03.2025 um 18.00 Uhr in den
  Räumen des Amtes Kropp Stapelholm\, Am Markt 10 in 24848 Kropp im Raatss
 aal.Folgende Tagesordnung ist für die Vorstandssitzung vorgesehen:TOP 1  
 Begrüßung &amp\; Feststellung der BeschlussfähigkeitTOP 2  Genehmigung 
 des Protokolls der 68. Vorstandssitzung vom 09.12.2025TOP 3  Vorstellung d
 er eingereichten Grundbudgetanträgea.   THG-Bilanzierung Dithmarschen Tou
 rismusb.   Förderung von wohnungssuchenden Menschen im Kreis Dithmarschen
  (Personalstelle Brücke Dithmarschen )c.   Hörnerplatz Lohe-Föhrdend.  
  Mehrgenerationenplatz Börme.   Dorfteich Schwesingf.    Padelcourts Viö
 lg.   Kita Busse Löwenstedth.   Flutlichtanlage Wrohmi.    Umrüstung der
  bestehenden Flutlichtanlage auf energieeffiziente LED Technik auf dem Spo
 rtplatz Schubyj.    Modernisierung Eingangsbereich und Inklusionsmaßnahme
 n MOINTOP 4  Diskussion &amp\; Beschlussfassung zu den eingereichten Grund
 budgetprojektena.   Mittelverteilung / Budget - aktueller Standb.   Projek
 tanträgec.   Mittelverteilung / Budget – nach ProjektbeschlussTOP 5  Be
 richt des Vorsitzenden und des RegionalmanagementsTOP 6  Bericht des LLnLT
 OP 7  VerschiedenesBitte gebt uns in jedem Fall bis zum 19.03.2026 eine R
 ückmeldung\, ob ihr an der Vorstandssitzung teilnehmt\, damit wir im Vorf
 eld die Beschlussfähigkeit des Gremiums prüfen können. Eure Rückmeldun
 g nehmen wir gerne unter folgendem Link entgegenLiebe Vorstandsmitglieder\
 , bitte beachtet\, dass es für die Vorstandssitzung keine persönliche St
 ellvertreter-Regelung gibt und bei Abwesenheit die gewählten Stellvertret
 er für den Vorstand zu informieren sind. Bei Unklarheiten meldet euch jed
 erzeit gerne bei uns.Wir freuen uns auf das Wiedersehen in Kropp!Herzliche
  Grüße aus dem Stapelholmhuus\,Levke BrauerRegionalmanagerin der LAG Akt
 ivRegion Eider-Treene-Sorge e.V.\n\n\n
LOCATION:Ratsaal Amt Kropp-Stapelholm\, Am Markt 10\, 24848 Kropp
URL:https://event.eider-treene-sorge.de/event/KwDLgBPD
DTSTART;TZID=Europe/Berlin:20260324T180000
DTEND;TZID=Europe/Berlin:20260324T190000
END:VEVENT
END:VCALENDAR