BEGIN:VCALENDAR
VERSION:2.0
PRODID:spatie/icalendar-generator
NAME:21. Mitgliederversammlung AktivRegion ETS
X-WR-CALNAME:21. Mitgliederversammlung AktivRegion ETS
BEGIN:VTIMEZONE
TZID:Europe/Berlin
BEGIN:DAYLIGHT
DTSTART:20250330T010000
TZOFFSETFROM:+0100
TZOFFSETTO:+0200
END:DAYLIGHT
BEGIN:STANDARD
DTSTART:20251026T030000
TZOFFSETFROM:+0200
TZOFFSETTO:+0100
END:STANDARD
BEGIN:DAYLIGHT
DTSTART:20260329T010000
TZOFFSETFROM:+0100
TZOFFSETTO:+0200
END:DAYLIGHT
END:VTIMEZONE
BEGIN:VTIMEZONE
TZID:UTC
BEGIN:STANDARD
DTSTART:20250725T140152
TZOFFSETFROM:+0000
TZOFFSETTO:+0000
END:STANDARD
END:VTIMEZONE
BEGIN:VEVENT
UID:69e7835065468
DTSTAMP:20260421T140152Z
SUMMARY:21. Mitgliederversammlung AktivRegion ETS
DESCRIPTION:Liebe Mitglieder der LAG AktivRegion Eider-Treene-Sorge e.V.\, 
 liebe Projektträger und Interessierte\,\n\n\nwir möchten Sie ganz herzli
 ch zur 21. Mitgliederversammlung der LAG AktivRegion Eider-Treene-Sorge e.
  V. einladen. Wir treffen uns am Dienstag\, den 09.12.2025 von 17 – 18.3
 0 Uhr im Amt Arensharde\, Hauptstr. 41\, 24887 Silberstedt\, im Großen Si
 tzungssaal.\n\nFolgende Tagesordnung ist für die Mitgliederversammlung vo
 rgesehen:\n\nTOP 1  Begrüßung &amp\; Feststellung der Beschlussfähigkei
 t\n\nTOP 2  Genehmigung des Protokolls der 20. Mitgliederversammlung vom 2
 5.03.2025\n\nTOP 3  Bericht des Vorsitzenden und des Regionalmanagements\n
 \nTOP 4  Bericht des LLnL\n\nTOP 5  Aufnahme neuer Vereinsmitglieder\n\nTO
 P 6  Wahl des Vorstands\n\nTOP 7  Beratung und Beschlussfassung zur Änder
 ung der Vereinssatzung \n\nTOP 8  Wahl des geschäftsführenden Vorstands\
 n\nTOP 9  Beratung und Beschlussfassung zur Änderung der IES \n\nTOP 10  
 Beratung und Beschlussfassung zur Änderung des Merkblatts für Projekttr
 äger\n\nTOP 11 Ausblick &amp\; Verschiedenes\n\n\nBitte geben Sie uns in 
 jedem Fall bis zum 28.11.2025 eine Rückmeldung\, ob Sie an der Mitglieder
 versammlung teilnehmen\, damit wir im Vorfeld die Beschlussfähigkeit des 
 Gremiums prüfen können.\n\nSofern Ihnen die Teilnahme an der Mitgliederv
 ersammlung nicht möglich ist\, können Sie nach § 8 Abs.7 der Satzung ei
 nen Stellvertreter benennen\, welcher Ihr Stimmrecht wahrnimmt.\n\nBitte b
 enennen Sie Ihren Stellvertreter in Form einer Vollmacht und senden uns di
 ese im Vorwege per E-Mail an r.voss@eider-treene-sorge.de zu.\n\nFür das 
 leibliche Wohl wird gesorgt.\n\nHerzliche Grüße aus der Flusslandschaft 
 Eider-Treene-Sorge senden\n\n-gezeichnet-\n\nLevke Brauer\n\nRegionalmanag
 erin der LAG AktivRegion Eider-Treene-Sorge e.V.\n\nund\n\n-gezeichnet-\n\
 nHorst Rudolph\n\nVorsitzender der LAG AktivRegion Eider-Treene-Sorge e.V.
 \n\n\n\n\n\n\n\n\n
LOCATION:Amt Arensharde\, Großer Sitzungssaal\, Hauptstr. 41\, 24887 Silbe
 rstedt
URL:https://event.eider-treene-sorge.de/event/NGrR9gm6
DTSTART;TZID=Europe/Berlin:20251209T170000
DTEND;TZID=Europe/Berlin:20251209T183000
END:VEVENT
END:VCALENDAR