BEGIN:VCALENDAR
VERSION:2.0
PRODID:spatie/icalendar-generator
NAME:7. Vorstandssitzung der AktivRegion Südliches Nordfriesland
X-WR-CALNAME:7. Vorstandssitzung der AktivRegion Südliches Nordfriesland
BEGIN:VTIMEZONE
TZID:Europe/Berlin
BEGIN:DAYLIGHT
DTSTART:20250330T010000
TZOFFSETFROM:+0100
TZOFFSETTO:+0200
END:DAYLIGHT
BEGIN:STANDARD
DTSTART:20251026T030000
TZOFFSETFROM:+0200
TZOFFSETTO:+0100
END:STANDARD
BEGIN:DAYLIGHT
DTSTART:20260329T010000
TZOFFSETFROM:+0100
TZOFFSETTO:+0200
END:DAYLIGHT
END:VTIMEZONE
BEGIN:VTIMEZONE
TZID:UTC
BEGIN:STANDARD
DTSTART:20250725T094935
TZOFFSETFROM:+0000
TZOFFSETTO:+0000
END:STANDARD
END:VTIMEZONE
BEGIN:VEVENT
UID:69e7482f8e648
DTSTAMP:20260421T094935Z
SUMMARY:7. Vorstandssitzung der AktivRegion Südliches Nordfriesland
DESCRIPTION:Liebe Vorstandsmitglieder der LAG AktivRegion Südliches Nordfr
 iesland e.V.\, sowie Interessierte\,\n\n\nhiermit möchte ich Sie und Euch
  ganz herzlich zur 7. Vorstandssitzung der LAG AktivRegion Südliches Nord
 friesland e. V. einladen.\n\nWir treffen uns am Dienstag\, 02.12.2025 um 1
 8.00 Uhr in Drage\, Dorfstr. 20a (Dorfgemeinschaftshaus)\n\nFolgende Tages
 ordnung ist für die Vorstandssitzung vorgesehen:\n\n\n\nTop 1  Begrüßun
 g und Feststellung der Beschlussfähigkeit\n\nTop 2  Genehmigung des Proto
 kolls vom 15.07.2025\n\nTop 3  Aufnahme eines neuen Mitglieds\n\nTop 4  Vo
 rstellung des eingereichten Grundbudgetprojektes\n\n Machbarkeitsstudie 
 „Schwimmbad/Kurmittelhaus Nordstrand – Daseinsvorsorge\, Klima &amp\; 
 Vernetzung“Top 5  Diskussion &amp\; Beschlussfassung zum eingereichten G
 rundbudgetprojekt\n\nTop 6  Änderung der Geschäftsordnung\n\nTop 7  Ausb
 lick &amp\; Verschiedenes\n\n\n\nWir bitten um Anmeldung bis zum 21.11.202
 5.\n\n\nBei Verhinderung bitten wir darum\, die Einladung entsprechend an 
 die gewählte Stellvertretung weiterzuleiten.\n\n\n\nFür die Beschlussfä
 higkeit des Vorstandes müssen mehr als die Hälfte der Vorstandsmitgliede
 r anwesend sein. Zudem ist eine Beteiligung von mind. 50% der Wirtschafts-
  und Sozialpartner erforderlich.\n\n\n\nNoch ein wichtiger Hinweis: Die Mi
 tgliederversammlung findet ebenfalls am 02.12.2025 statt\, direkt vor der 
 Vorstandssitzung\, und endet kurz vor 18 Uhr.\n\nHerzliche Grüße sendet\
 n\n\n\nMiriam Templin\n\nRegionalmanagerin der LAG AktivRegion Südliches 
 Nordfriesland e.V.\n\n\n\n\n
LOCATION:25878 Drage\, Dorfstr. 20a (Dorfgemeinschaftshaus)
URL:https://event.eider-treene-sorge.de/event/xY6nAkM6
DTSTART;TZID=Europe/Berlin:20251202T180000
DTEND;TZID=Europe/Berlin:20251202T190000
END:VEVENT
END:VCALENDAR